BEGIN:VCALENDAR
VERSION:2.0
PRODID:-//Welcome To Hendersonville, NC - ECPv6.15.17//NONSGML v1.0//EN
CALSCALE:GREGORIAN
METHOD:PUBLISH
X-WR-CALNAME:Welcome To Hendersonville, NC
X-ORIGINAL-URL:https://visithendersonvillenc.org
X-WR-CALDESC:Events for Welcome To Hendersonville, NC
REFRESH-INTERVAL;VALUE=DURATION:PT1H
X-Robots-Tag:noindex
X-PUBLISHED-TTL:PT1H
BEGIN:VTIMEZONE
TZID:America/New_York
BEGIN:DAYLIGHT
TZOFFSETFROM:-0500
TZOFFSETTO:-0400
TZNAME:EDT
DTSTART:20250309T070000
END:DAYLIGHT
BEGIN:STANDARD
TZOFFSETFROM:-0400
TZOFFSETTO:-0500
TZNAME:EST
DTSTART:20251102T060000
END:STANDARD
BEGIN:DAYLIGHT
TZOFFSETFROM:-0500
TZOFFSETTO:-0400
TZNAME:EDT
DTSTART:20260308T070000
END:DAYLIGHT
BEGIN:STANDARD
TZOFFSETFROM:-0400
TZOFFSETTO:-0500
TZNAME:EST
DTSTART:20261101T060000
END:STANDARD
BEGIN:DAYLIGHT
TZOFFSETFROM:-0500
TZOFFSETTO:-0400
TZNAME:EDT
DTSTART:20270314T070000
END:DAYLIGHT
BEGIN:STANDARD
TZOFFSETFROM:-0400
TZOFFSETTO:-0500
TZNAME:EST
DTSTART:20271107T060000
END:STANDARD
END:VTIMEZONE
BEGIN:VEVENT
DTSTART;TZID=America/New_York:20260328T100000
DTEND;TZID=America/New_York:20260328T150000
DTSTAMP:20260419T183912
CREATED:20251212T212926Z
LAST-MODIFIED:20260212T194652Z
UID:10029523-1774692000-1774710000@visithendersonvillenc.org
SUMMARY:Heritage Weavers & Fiber Artists Annual Fiber Expo 2026
DESCRIPTION:Join the Heritage Weavers and Fiber Artists (HWFA) on Saturday\, from 10am to 3pm at the Historic Johnson Farm for their annual Fiber Expo 2026. Through HWFA’s collaboration with the Historic Johnson Farm and the Blue Ridge Mountain Heritage Area the boarding house on the property has been transformed into a fiber arts center. As school children and the public tour the farm they see and/or experience hands-on learning in fiber arts. This may include weaving\, rug hooking\, bobbin lace\, spinning\, or knitting. A dye garden is being established to further mountain heritage crafts. \nThis is event on January 31st is an opportunity to see demonstrations of most of the fiber arts that will be taught during 2026. Come join us. Free event\, open to all.
URL:https://visithendersonvillenc.org/event/heritage-weavers-fiber-artists-annual-fiber-expo-2026
LOCATION:Historic Johnson Farm\, 3346 Haywood Road\, Hendersonville\, NC\, 28791\, United States
END:VEVENT
END:VCALENDAR