BEGIN:VCALENDAR
VERSION:2.0
PRODID:-//Welcome To Hendersonville, NC - ECPv6.15.17//NONSGML v1.0//EN
CALSCALE:GREGORIAN
METHOD:PUBLISH
X-WR-CALNAME:Welcome To Hendersonville, NC
X-ORIGINAL-URL:https://visithendersonvillenc.org
X-WR-CALDESC:Events for Welcome To Hendersonville, NC
REFRESH-INTERVAL;VALUE=DURATION:PT1H
X-Robots-Tag:noindex
X-PUBLISHED-TTL:PT1H
BEGIN:VTIMEZONE
TZID:America/New_York
BEGIN:DAYLIGHT
TZOFFSETFROM:-0500
TZOFFSETTO:-0400
TZNAME:EDT
DTSTART:20250309T070000
END:DAYLIGHT
BEGIN:STANDARD
TZOFFSETFROM:-0400
TZOFFSETTO:-0500
TZNAME:EST
DTSTART:20251102T060000
END:STANDARD
BEGIN:DAYLIGHT
TZOFFSETFROM:-0500
TZOFFSETTO:-0400
TZNAME:EDT
DTSTART:20260308T070000
END:DAYLIGHT
BEGIN:STANDARD
TZOFFSETFROM:-0400
TZOFFSETTO:-0500
TZNAME:EST
DTSTART:20261101T060000
END:STANDARD
BEGIN:DAYLIGHT
TZOFFSETFROM:-0500
TZOFFSETTO:-0400
TZNAME:EDT
DTSTART:20270314T070000
END:DAYLIGHT
BEGIN:STANDARD
TZOFFSETFROM:-0400
TZOFFSETTO:-0500
TZNAME:EST
DTSTART:20271107T060000
END:STANDARD
END:VTIMEZONE
BEGIN:VEVENT
DTSTART;TZID=America/New_York:20260517T150000
DTEND;TZID=America/New_York:20260517T170000
DTSTAMP:20260421T205742
CREATED:20260209T192958Z
LAST-MODIFIED:20260209T192958Z
UID:10029758-1779030000-1779037200@visithendersonvillenc.org
SUMMARY:Brevard Philharmonic presents Pines of Rome
DESCRIPTION:This powerful season finale features the Brevard Philharmonic in a bold and dramatic program\, highlighted by Respighi’s Pines of Rome and Bruch’s Violin Concerto No. 1\, performed by acclaimed violinist Oliver Neubauer. From sweeping orchestral color to soaring lyricism\, the concert promises an unforgettable afternoon filled with passion\, brilliance\, and symphonic grandeur.
URL:https://visithendersonvillenc.org/event/brevard-philharmonic-presents-pines-of-rome
LOCATION:Brevard College Porter Center\, 1 Brevard College Dr\, Brevard\, NC\, 28712\, United States
ATTACH;FMTTYPE=image/jpeg:https://visithendersonvillenc.org/wp-content/uploads/Oliver-Neubauer-violin_credit-Shervin-Lainez9-scaled.jpeg
END:VEVENT
BEGIN:VEVENT
DTSTART;TZID=America/New_York:20260430T193000
DTEND;TZID=America/New_York:20260430T210000
DTSTAMP:20260421T205742
CREATED:20260319T143409Z
LAST-MODIFIED:20260319T143409Z
UID:10031200-1777577400-1777582800@visithendersonvillenc.org
SUMMARY:Aeterna Via
DESCRIPTION:The Transylvania Choral Society will perform a premier of two contemporary compositions\, Aeterna Via\, by Elaine Hagenberg\, and Blue Ridge\, by Jesse Strickland\, on Thursday\, April 30 at 7:30 pm at the Porter Center\, Brevard College. The Choral Society features 66 talented area singers\, along with 20 Brevard College Chamber Singers\, under the direction of Dr. David Gresham. They will be accompanied by pianist Patti Black and a full\, professional chamber orchestra. Tickets are $20 and may be purchased at https://www.transylvaniachoral.org.
URL:https://visithendersonvillenc.org/event/aeterna-via
LOCATION:Brevard College Porter Center\, 1 Brevard College Dr\, Brevard\, NC\, 28712\, United States
ATTACH;FMTTYPE=image/jpeg:https://visithendersonvillenc.org/wp-content/uploads/Christmas-2025.jpeg
ORGANIZER;CN="Transylvania Choral Society":MAILTO:info@tranylvaniachoral.org
END:VEVENT
END:VCALENDAR