BEGIN:VCALENDAR
VERSION:2.0
PRODID:-//Welcome To Hendersonville, NC - ECPv6.15.17//NONSGML v1.0//EN
CALSCALE:GREGORIAN
METHOD:PUBLISH
X-ORIGINAL-URL:https://visithendersonvillenc.org
X-WR-CALDESC:Events for Welcome To Hendersonville, NC
REFRESH-INTERVAL;VALUE=DURATION:PT1H
X-Robots-Tag:noindex
X-PUBLISHED-TTL:PT1H
BEGIN:VTIMEZONE
TZID:America/New_York
BEGIN:DAYLIGHT
TZOFFSETFROM:-0500
TZOFFSETTO:-0400
TZNAME:EDT
DTSTART:20240310T070000
END:DAYLIGHT
BEGIN:STANDARD
TZOFFSETFROM:-0400
TZOFFSETTO:-0500
TZNAME:EST
DTSTART:20241103T060000
END:STANDARD
BEGIN:DAYLIGHT
TZOFFSETFROM:-0500
TZOFFSETTO:-0400
TZNAME:EDT
DTSTART:20250309T070000
END:DAYLIGHT
BEGIN:STANDARD
TZOFFSETFROM:-0400
TZOFFSETTO:-0500
TZNAME:EST
DTSTART:20251102T060000
END:STANDARD
BEGIN:DAYLIGHT
TZOFFSETFROM:-0500
TZOFFSETTO:-0400
TZNAME:EDT
DTSTART:20260308T070000
END:DAYLIGHT
BEGIN:STANDARD
TZOFFSETFROM:-0400
TZOFFSETTO:-0500
TZNAME:EST
DTSTART:20261101T060000
END:STANDARD
BEGIN:DAYLIGHT
TZOFFSETFROM:-0500
TZOFFSETTO:-0400
TZNAME:EDT
DTSTART:20270314T070000
END:DAYLIGHT
BEGIN:STANDARD
TZOFFSETFROM:-0400
TZOFFSETTO:-0500
TZNAME:EST
DTSTART:20271107T060000
END:STANDARD
END:VTIMEZONE
BEGIN:VEVENT
DTSTART;TZID=America/New_York:20260405T113000
DTEND;TZID=America/New_York:20260405T150000
DTSTAMP:20260421T135350
CREATED:20260325T181332Z
LAST-MODIFIED:20260325T181332Z
UID:10031248-1775388600-1775401200@visithendersonvillenc.org
SUMMARY:Easter Brunch at Kanuga
DESCRIPTION:Celebrate Easter at Kanuga with a delightful brunch for the whole family. Enjoy a delicious selection of seasonal favorites\, including fresh pastries\, savory entrées and sides\, fruit and charcuterie\, and decadent desserts. Gather with friends and loved ones in a warm and welcoming setting as we celebrate this special day together. Sun. April 5\, 11:30am-3:00pm at Kanuga Conference Center\, 471 Kanuga Chapel Dr\, Hendersonville. Adults: $54; Children (ages 3-12): $22.99. Cash bar open from 12pm-2:30pm. Reservations: 828-692-9136; menu and online reservations at kanuga.org/events.
URL:https://visithendersonvillenc.org/event/easter-brunch-at-kanuga
LOCATION:Kanuga\, 130 Kanuga Chapel Drive\, Hendersonville\, NC\, 28739\, United States
ATTACH;FMTTYPE=image/jpeg:https://visithendersonvillenc.org/wp-content/uploads/Lake-Kanuga-Blue-large.jpg
ORGANIZER;CN="Kanuga":MAILTO:info@staykanuga.org
END:VEVENT
BEGIN:VEVENT
DTSTART;TZID=America/New_York:20260111T140000
DTEND;TZID=America/New_York:20260111T140000
DTSTAMP:20260421T135350
CREATED:20251229T135102Z
LAST-MODIFIED:20251229T135102Z
UID:10029573-1768140000-1768140000@visithendersonvillenc.org
SUMMARY:The Many Lives of Carl Sandburg
DESCRIPTION:Kanuga invites the community to a Sunday\, Jan. 11 performance of The Many Lives of Carl Sandburg\, a one-act play celebrating the poet and journalist who spent his final years in nearby Flat Rock. The event includes a special pre-show brunch at 12:30 p.m.\, followed by the 2 p.m. performance in Kanuga’s historic chapel\, with tickets also including a post-show coffee\, birthday cake\, and conversation with the playwright and cast.
URL:https://visithendersonvillenc.org/event/the-many-lives-of-carl-sandburg-2
LOCATION:Kanuga\, 130 Kanuga Chapel Drive\, Hendersonville\, NC\, 28739\, United States
ATTACH;FMTTYPE=image/jpeg:https://visithendersonvillenc.org/wp-content/uploads/CarlSandburgHendersonvilleTDANorthCarolina2.jpg
END:VEVENT
BEGIN:VEVENT
DTSTART;TZID=America/New_York:20251221T160000
DTEND;TZID=America/New_York:20251221T210000
DTSTAMP:20260421T135350
CREATED:20251212T213125Z
LAST-MODIFIED:20251212T213125Z
UID:10029524-1766332800-1766350800@visithendersonvillenc.org
SUMMARY:An Appalachian Solstice
DESCRIPTION:Welcome this season of wintering with readings\, an artisans market\, buffet supper\, and guided labyrinth walk. On this\, the shortest day and longest night of the year in the Northern Hemisphere\, gather at Kanuga as music and word create warmth in this seasonal time of fallow and reflection. Through contemplative readings and the music of Chris Rosser\, River Guerguerian and Adam Maalouf\, sacred space is created for healing to begin as we prepare for a restorative new year. Poet\, Mary Ellen Lough joins us this year to share her poetry and tenacious spirit. Each performer will add their unique presence to create a memorable evening for all. \nThe concert will be held in Kanuga’s chapel\, a unique and holy listening space. \nAlso offered is a holiday artisans market featuring regional artists. A buffet supper will be served in the Dining Hall.\nTickets for the performance are $15 each. Tickets for the performance and supper are $50 each.\nTickets available online at: https://www.eventbrite.com/e/an-appalachian-solstice-wintering-with-word-song-tickets-1963369292406
URL:https://visithendersonvillenc.org/event/an-appalachian-solstice
LOCATION:Kanuga\, 130 Kanuga Chapel Drive\, Hendersonville\, NC\, 28739\, United States
ORGANIZER;CN="Kanuga":MAILTO:info@staykanuga.org
END:VEVENT
BEGIN:VEVENT
DTSTART;VALUE=DATE:20251113
DTEND;VALUE=DATE:20251117
DTSTAMP:20260421T135350
CREATED:20251112T145726Z
LAST-MODIFIED:20251112T145726Z
UID:10029394-1762992000-1763337599@visithendersonvillenc.org
SUMMARY:AwakeningSoul
DESCRIPTION:Acclaimed authors and spiritual leaders Cynthia Bourgeault and Matthew Wright lead the annual “AwakeningSoul” retreat\, a weekend of connection\, worship\, music and spiritual reflection at Kanuga in Hendersonville\, N.C.\, Thursday–Sunday\, Nov. 13–16\, 2025. Special rates available for local commuters. Registration and more info at kanuga.org/awakening.
URL:https://visithendersonvillenc.org/event/awakeningsoul
LOCATION:Kanuga\, 130 Kanuga Chapel Drive\, Hendersonville\, NC\, 28739\, United States
ATTACH;FMTTYPE=image/png:https://visithendersonvillenc.org/wp-content/uploads/kanuga_awakeningsoul2025.png
ORGANIZER;CN="Kanuga":MAILTO:info@staykanuga.org
END:VEVENT
BEGIN:VEVENT
DTSTART;TZID=America/New_York:20251026T160000
DTEND;TZID=America/New_York:20251026T193000
DTSTAMP:20260421T135350
CREATED:20251006T184827Z
LAST-MODIFIED:20251006T184827Z
UID:10029244-1761494400-1761507000@visithendersonvillenc.org
SUMMARY:An Evening for All Souls: A Gathering of Song and Spirit
DESCRIPTION:Enjoy an evening of community\, music\, and remembering together those who have helped to form and make us at “An Evening for All Souls: A Gathering of Song and Spirit\,” Sunday\, Oct. 26 at Kanuga. The evening begins at 4 p.m. at Kanuga Lake with a community choir workshop\, followed by dinner and luminaria making on the Rocking Chair Porch Lawn at 5 p.m.\, and concludes with a concert by musical artist Roots Grown Deep at 6 p.m.\, with a luminaria release on the lake at dusk. Bring your own lawn chair or blanket. Cost: Concert only\, $9.94; Concert & Dinner\, $21.33. Location: 471 Kanuga Chapel Dr. in Hendersonville. Registration and more info at kanuga.org/events.
URL:https://visithendersonvillenc.org/event/an-evening-for-all-souls-a-gathering-of-song-and-spirit
LOCATION:Kanuga\, 130 Kanuga Chapel Drive\, Hendersonville\, NC\, 28739\, United States
ATTACH;FMTTYPE=image/jpeg:https://visithendersonvillenc.org/wp-content/uploads/Roots-Grown-Deep-JayJahidiAditiJoELScott-scaled-1.jpg
ORGANIZER;CN="Kanuga":MAILTO:info@staykanuga.org
END:VEVENT
END:VCALENDAR