BEGIN:VCALENDAR
VERSION:2.0
PRODID:-//Welcome To Hendersonville, NC - ECPv6.15.20//NONSGML v1.0//EN
CALSCALE:GREGORIAN
METHOD:PUBLISH
X-ORIGINAL-URL:https://visithendersonvillenc.org
X-WR-CALDESC:Events for Welcome To Hendersonville, NC
REFRESH-INTERVAL;VALUE=DURATION:PT1H
X-Robots-Tag:noindex
X-PUBLISHED-TTL:PT1H
BEGIN:VTIMEZONE
TZID:America/New_York
BEGIN:DAYLIGHT
TZOFFSETFROM:-0500
TZOFFSETTO:-0400
TZNAME:EDT
DTSTART:20240310T070000
END:DAYLIGHT
BEGIN:STANDARD
TZOFFSETFROM:-0400
TZOFFSETTO:-0500
TZNAME:EST
DTSTART:20241103T060000
END:STANDARD
BEGIN:DAYLIGHT
TZOFFSETFROM:-0500
TZOFFSETTO:-0400
TZNAME:EDT
DTSTART:20250309T070000
END:DAYLIGHT
BEGIN:STANDARD
TZOFFSETFROM:-0400
TZOFFSETTO:-0500
TZNAME:EST
DTSTART:20251102T060000
END:STANDARD
BEGIN:DAYLIGHT
TZOFFSETFROM:-0500
TZOFFSETTO:-0400
TZNAME:EDT
DTSTART:20260308T070000
END:DAYLIGHT
BEGIN:STANDARD
TZOFFSETFROM:-0400
TZOFFSETTO:-0500
TZNAME:EST
DTSTART:20261101T060000
END:STANDARD
BEGIN:DAYLIGHT
TZOFFSETFROM:-0500
TZOFFSETTO:-0400
TZNAME:EDT
DTSTART:20270314T070000
END:DAYLIGHT
BEGIN:STANDARD
TZOFFSETFROM:-0400
TZOFFSETTO:-0500
TZNAME:EST
DTSTART:20271107T060000
END:STANDARD
END:VTIMEZONE
BEGIN:VEVENT
DTSTART;TZID=America/New_York:20260405T080000
DTEND;TZID=America/New_York:20260405T160000
DTSTAMP:20260425T185208
CREATED:20260323T132721Z
LAST-MODIFIED:20260323T132721Z
UID:10031238-1775376000-1775404800@visithendersonvillenc.org
SUMMARY:Easter Brunch at The Silo Cookhouse
DESCRIPTION:Join on the Farm for a relaxed and festive Easter Sunday brunch\, thoughtfully designed to bring everyone together around the table. This year\, enjoy a buffet-style Easter brunch\, featuring a seasonal spread of fresh\, comforting favorites for all ages to enjoy. Throughout the day\, guests can also experience a children’s egg hunt on the property and enjoy a special visit from the Easter Bunny\, perfect for creating memorable moments with family and friends. The Easter Bunny will be on property from 11am-2pm\, with an egg hunt from 11:30am-12pm
URL:https://visithendersonvillenc.org/event/easter-brunch-at-the-silo-cookhouse
LOCATION:The Silo Cookhouse at The Horse Shoe Farm\, 155 Horse Shoe Farm Dr.\, Hendersonville\, NC\, 28791\, United States
ATTACH;FMTTYPE=image/png:https://visithendersonvillenc.org/wp-content/uploads/Screenshot-2026-03-20-at-1.58.40-PM.png
ORGANIZER;CN="The Horse Shoe Farm":MAILTO:info@thehorseshoefarm.com
END:VEVENT
BEGIN:VEVENT
DTSTART;TZID=America/New_York:20251231T173000
DTEND;TZID=America/New_York:20251231T220000
DTSTAMP:20260425T185208
CREATED:20251204T134025Z
LAST-MODIFIED:20251204T134025Z
UID:10029495-1767202200-1767218400@visithendersonvillenc.org
SUMMARY:New Year’s Eve at The Silo Cookhouse
DESCRIPTION:Ring in 2026 with style at The Silo Cookhouse’s New Year’s Eve Dinner\, featuring a three-course prix fixe menu plus amuse\, with an optional wine pairing. The perfect blend of culinary sophistication and cozy mountain ambiance\, it’s an unforgettable way to toast the year ahead. $125 per guest
URL:https://visithendersonvillenc.org/event/new-years-eve-at-the-silo-cookhouse
LOCATION:The Silo Cookhouse at The Horse Shoe Farm\, 155 Horse Shoe Farm Dr.\, Hendersonville\, NC\, 28791\, United States
ATTACH;FMTTYPE=image/jpeg:https://visithendersonvillenc.org/wp-content/uploads/THPG0099.jpg
END:VEVENT
BEGIN:VEVENT
DTSTART;TZID=America/New_York:20251224T170000
DTEND;TZID=America/New_York:20251224T203000
DTSTAMP:20260425T185208
CREATED:20250916T202748Z
LAST-MODIFIED:20250916T202854Z
UID:10029176-1766595600-1766608200@visithendersonvillenc.org
SUMMARY:Christmas Eve at The Silo Cookhouse
DESCRIPTION:Join the Silo Cookhouse at the Horse Shoe Farm for a festive 3-course holiday dinner with optional wine pairings. Enjoy holiday music\, a playful elf scavenger hunt for the kids\, and a cozy evening meant for gathering with family and friends. Reservations required: https://thehorseshoefarm.com/upcoming-events
URL:https://visithendersonvillenc.org/event/christmas-eve-at-the-silo-cookhouse
LOCATION:The Silo Cookhouse at The Horse Shoe Farm\, 155 Horse Shoe Farm Dr.\, Hendersonville\, NC\, 28791\, United States
ATTACH;FMTTYPE=image/jpeg:https://visithendersonvillenc.org/wp-content/uploads/silocookhousechristmaseve.jpg
END:VEVENT
BEGIN:VEVENT
DTSTART;TZID=America/New_York:20251213T100000
DTEND;TZID=America/New_York:20251213T120000
DTSTAMP:20260425T185208
CREATED:20250916T155350Z
LAST-MODIFIED:20250916T155350Z
UID:10029175-1765620000-1765627200@visithendersonvillenc.org
SUMMARY:Breakfast with Santa at The Silo Cookhouse
DESCRIPTION:Christmas Cookie Decorating & Breakfast with SantaJoin the holiday fun on Saturday\, December 13\, from 10 AM–12 PM with a festive breakfast buffet and a visit from Santa Claus. Kids can enjoy holiday craft activities while everyone delights in live music\, cookie decorating\, and seasonal favorites at the bar\, including hot chocolate\, mulled wine\, and eggnog. Tickets are $65 for adults and $45 for kids.
URL:https://visithendersonvillenc.org/event/breakfast-with-santa-at-the-silo-cookhouse
LOCATION:The Silo Cookhouse at The Horse Shoe Farm\, 155 Horse Shoe Farm Dr.\, Hendersonville\, NC\, 28791\, United States
ATTACH;FMTTYPE=image/jpeg:https://visithendersonvillenc.org/wp-content/uploads/silocookhousechristmas.jpg
END:VEVENT
BEGIN:VEVENT
DTSTART;TZID=America/New_York:20251031T180000
DTEND;TZID=America/New_York:20251031T210000
DTSTAMP:20260425T185208
CREATED:20250916T155140Z
LAST-MODIFIED:20250916T155140Z
UID:10029174-1761933600-1761944400@visithendersonvillenc.org
SUMMARY:Halloween at The Silo Cookhouse
DESCRIPTION:Halloween at the SiloCelebrate Halloween on Friday\, October 31\, from 6–9 PM with Sunset at the Silo: Halloween Edition. Enjoy festive hayrides\, family-friendly games\, and live music under the autumn sky. Admission is free\, with food and drinks available for purchase.
URL:https://visithendersonvillenc.org/event/halloween-at-the-silo-cookhouse
LOCATION:The Silo Cookhouse at The Horse Shoe Farm\, 155 Horse Shoe Farm Dr.\, Hendersonville\, NC\, 28791\, United States
ATTACH;FMTTYPE=image/jpeg:https://visithendersonvillenc.org/wp-content/uploads/silocookhousehalloween.jpg
END:VEVENT
BEGIN:VEVENT
DTSTART;TZID=America/New_York:20251127T110000
DTEND;TZID=America/New_York:20251127T160000
DTSTAMP:20260425T185208
CREATED:20250915T185747Z
LAST-MODIFIED:20250915T191910Z
UID:10029148-1764241200-1764259200@visithendersonvillenc.org
SUMMARY:Thanksgiving Dinner at The Silo Cookhouse
DESCRIPTION:Celebrate Thanksgiving Day on Thursday\, November 28th\, with a special ticketed event at the Silo Cookhouse from 11 AM to 4 PM. Guests will enjoy a festive family-style Thanksgiving dinner featuring a curated holiday menu\, served in the warm and inviting atmosphere of the Cookhouse. After the meal\, the celebration continues with time to relax and enjoy the gameroom\, sip seasonal drinks at the bar\, and catch the football game with family and friends.
URL:https://visithendersonvillenc.org/event/thanksgiving-dinner-at-the-silo-cookhouse
LOCATION:The Silo Cookhouse at The Horse Shoe Farm\, 155 Horse Shoe Farm Dr.\, Hendersonville\, NC\, 28791\, United States
ATTACH;FMTTYPE=image/jpeg:https://visithendersonvillenc.org/wp-content/uploads/silocookhosuethanksgiving.jpg
ORGANIZER;CN="The Silo Cookhouse at the Horse Shoe Farm":MAILTO:INFO@THEHORSESHOEFARM.COM
END:VEVENT
BEGIN:VEVENT
DTSTART;TZID=America/New_York:20251031T180000
DTEND;TZID=America/New_York:20251031T210000
DTSTAMP:20260425T185208
CREATED:20250911T164506Z
LAST-MODIFIED:20250911T164506Z
UID:10029108-1761933600-1761944400@visithendersonvillenc.org
SUMMARY:Halloween - Murder Mystery at the Silo Cookhouse
DESCRIPTION:Step into a chilling night of suspense\, secrets\, and savory bites at our Halloween Murder Mystery Dinner. Join us at The Silo Cookhouse for an evening of interactive intrigue where guests become part of the story. Costumes encouraged. Suspects everywhere. Trust no one.
URL:https://visithendersonvillenc.org/event/halloween-murder-mystery-at-the-silo-cookhouse
LOCATION:The Silo Cookhouse at The Horse Shoe Farm\, 155 Horse Shoe Farm Dr.\, Hendersonville\, NC\, 28791\, United States
ATTACH;FMTTYPE=image/jpeg:https://visithendersonvillenc.org/wp-content/uploads/EC2A052F-D194-4F52-958C-48FC2FD80946-scaled.jpg
ORGANIZER;CN="The Horse Shoe Farm":MAILTO:info@thehorseshoefarm.com
END:VEVENT
END:VCALENDAR