BEGIN:VCALENDAR
VERSION:2.0
PRODID:-//Welcome To Hendersonville, NC - ECPv6.15.20//NONSGML v1.0//EN
CALSCALE:GREGORIAN
METHOD:PUBLISH
X-ORIGINAL-URL:https://visithendersonvillenc.org
X-WR-CALDESC:Events for Welcome To Hendersonville, NC
REFRESH-INTERVAL;VALUE=DURATION:PT1H
X-Robots-Tag:noindex
X-PUBLISHED-TTL:PT1H
BEGIN:VTIMEZONE
TZID:America/New_York
BEGIN:DAYLIGHT
TZOFFSETFROM:-0500
TZOFFSETTO:-0400
TZNAME:EDT
DTSTART:20250309T070000
END:DAYLIGHT
BEGIN:STANDARD
TZOFFSETFROM:-0400
TZOFFSETTO:-0500
TZNAME:EST
DTSTART:20251102T060000
END:STANDARD
BEGIN:DAYLIGHT
TZOFFSETFROM:-0500
TZOFFSETTO:-0400
TZNAME:EDT
DTSTART:20260308T070000
END:DAYLIGHT
BEGIN:STANDARD
TZOFFSETFROM:-0400
TZOFFSETTO:-0500
TZNAME:EST
DTSTART:20261101T060000
END:STANDARD
BEGIN:DAYLIGHT
TZOFFSETFROM:-0500
TZOFFSETTO:-0400
TZNAME:EDT
DTSTART:20270314T070000
END:DAYLIGHT
BEGIN:STANDARD
TZOFFSETFROM:-0400
TZOFFSETTO:-0500
TZNAME:EST
DTSTART:20271107T060000
END:STANDARD
END:VTIMEZONE
BEGIN:VEVENT
DTSTART;TZID=America/New_York:20260703T180000
DTEND;TZID=America/New_York:20260703T210000
DTSTAMP:20260425T165442
CREATED:20260424T131921Z
LAST-MODIFIED:20260424T131921Z
UID:10031660-1783101600-1783112400@visithendersonvillenc.org
SUMMARY:Sunset and Silo
DESCRIPTION:Ease into the weekend with Sunset and Silo. Join on Friday evenings on the patio for live music\, mountain air\, and golden hour views. Sip\, savor\, and settle in as the sun dips behind the hills\, there’s no better way to start your weekend.
URL:https://visithendersonvillenc.org/event/sunset-and-silo/2026-07-03
LOCATION:The Silo Cookhouse at The Horse Shoe Farm\, 155 Horse Shoe Farm Dr.\, Hendersonville\, NC\, 28791\, United States
ATTACH;FMTTYPE=image/jpeg:https://visithendersonvillenc.org/wp-content/uploads/The-Horse-Shoe-Farm-Sunsets2023-07-25-at-3.07.09-PM-22-scaled.jpg
ORGANIZER;CN="The Horse Shoe Farm":MAILTO:info@thehorseshoefarm.com
END:VEVENT
BEGIN:VEVENT
DTSTART;TZID=America/New_York:20260501T170000
DTEND;TZID=America/New_York:20260501T200000
DTSTAMP:20260425T165442
CREATED:20260424T131921Z
LAST-MODIFIED:20260424T131921Z
UID:10031649-1777654800-1777665600@visithendersonvillenc.org
SUMMARY:Sunset and Silo
DESCRIPTION:Ease into the weekend with Sunset and Silo. Join on Friday evenings on the patio for live music\, mountain air\, and golden hour views. Sip\, savor\, and settle in as the sun dips behind the hills\, there’s no better way to start your weekend.
URL:https://visithendersonvillenc.org/event/sunset-and-silo/2026-05-01
LOCATION:The Silo Cookhouse at The Horse Shoe Farm\, 155 Horse Shoe Farm Dr.\, Hendersonville\, NC\, 28791\, United States
ATTACH;FMTTYPE=image/jpeg:https://visithendersonvillenc.org/wp-content/uploads/The-Horse-Shoe-Farm-Sunsets2023-07-25-at-3.07.09-PM-22-scaled.jpg
ORGANIZER;CN="The Horse Shoe Farm":MAILTO:info@thehorseshoefarm.com
END:VEVENT
BEGIN:VEVENT
DTSTART;TZID=America/New_York:20260704T180000
DTEND;TZID=America/New_York:20260704T210000
DTSTAMP:20260425T165442
CREATED:20260424T131921Z
LAST-MODIFIED:20260424T131921Z
UID:10031661-1783188000-1783198800@visithendersonvillenc.org
SUMMARY:Sunset and Silo
DESCRIPTION:Ease into the weekend with Sunset and Silo. Join on Friday evenings on the patio for live music\, mountain air\, and golden hour views. Sip\, savor\, and settle in as the sun dips behind the hills\, there’s no better way to start your weekend.
URL:https://visithendersonvillenc.org/event/sunset-and-silo/2026-07-04
LOCATION:The Silo Cookhouse at The Horse Shoe Farm\, 155 Horse Shoe Farm Dr.\, Hendersonville\, NC\, 28791\, United States
ATTACH;FMTTYPE=image/jpeg:https://visithendersonvillenc.org/wp-content/uploads/The-Horse-Shoe-Farm-Sunsets2023-07-25-at-3.07.09-PM-22-scaled.jpg
ORGANIZER;CN="The Horse Shoe Farm":MAILTO:info@thehorseshoefarm.com
END:VEVENT
BEGIN:VEVENT
DTSTART;TZID=America/New_York:20260508T170000
DTEND;TZID=America/New_York:20260508T200000
DTSTAMP:20260425T165442
CREATED:20260424T131921Z
LAST-MODIFIED:20260424T131921Z
UID:10031650-1778259600-1778270400@visithendersonvillenc.org
SUMMARY:Sunset and Silo
DESCRIPTION:Ease into the weekend with Sunset and Silo. Join on Friday evenings on the patio for live music\, mountain air\, and golden hour views. Sip\, savor\, and settle in as the sun dips behind the hills\, there’s no better way to start your weekend.
URL:https://visithendersonvillenc.org/event/sunset-and-silo/2026-05-08
LOCATION:The Silo Cookhouse at The Horse Shoe Farm\, 155 Horse Shoe Farm Dr.\, Hendersonville\, NC\, 28791\, United States
ATTACH;FMTTYPE=image/jpeg:https://visithendersonvillenc.org/wp-content/uploads/The-Horse-Shoe-Farm-Sunsets2023-07-25-at-3.07.09-PM-22-scaled.jpg
ORGANIZER;CN="The Horse Shoe Farm":MAILTO:info@thehorseshoefarm.com
END:VEVENT
BEGIN:VEVENT
DTSTART;TZID=America/New_York:20260710T180000
DTEND;TZID=America/New_York:20260710T210000
DTSTAMP:20260425T165442
CREATED:20260424T131921Z
LAST-MODIFIED:20260424T131921Z
UID:10031662-1783706400-1783717200@visithendersonvillenc.org
SUMMARY:Sunset and Silo
DESCRIPTION:Ease into the weekend with Sunset and Silo. Join on Friday evenings on the patio for live music\, mountain air\, and golden hour views. Sip\, savor\, and settle in as the sun dips behind the hills\, there’s no better way to start your weekend.
URL:https://visithendersonvillenc.org/event/sunset-and-silo/2026-07-10
LOCATION:The Silo Cookhouse at The Horse Shoe Farm\, 155 Horse Shoe Farm Dr.\, Hendersonville\, NC\, 28791\, United States
ATTACH;FMTTYPE=image/jpeg:https://visithendersonvillenc.org/wp-content/uploads/The-Horse-Shoe-Farm-Sunsets2023-07-25-at-3.07.09-PM-22-scaled.jpg
ORGANIZER;CN="The Horse Shoe Farm":MAILTO:info@thehorseshoefarm.com
END:VEVENT
BEGIN:VEVENT
DTSTART;TZID=America/New_York:20260510T110000
DTEND;TZID=America/New_York:20260510T140000
DTSTAMP:20260425T165442
CREATED:20260424T131921Z
LAST-MODIFIED:20260424T131921Z
UID:10031651-1778410800-1778421600@visithendersonvillenc.org
SUMMARY:Sunset and Silo
DESCRIPTION:Ease into the weekend with Sunset and Silo. Join on Friday evenings on the patio for live music\, mountain air\, and golden hour views. Sip\, savor\, and settle in as the sun dips behind the hills\, there’s no better way to start your weekend.
URL:https://visithendersonvillenc.org/event/sunset-and-silo/2026-05-10
LOCATION:The Silo Cookhouse at The Horse Shoe Farm\, 155 Horse Shoe Farm Dr.\, Hendersonville\, NC\, 28791\, United States
ATTACH;FMTTYPE=image/jpeg:https://visithendersonvillenc.org/wp-content/uploads/The-Horse-Shoe-Farm-Sunsets2023-07-25-at-3.07.09-PM-22-scaled.jpg
ORGANIZER;CN="The Horse Shoe Farm":MAILTO:info@thehorseshoefarm.com
END:VEVENT
BEGIN:VEVENT
DTSTART;TZID=America/New_York:20260717T180000
DTEND;TZID=America/New_York:20260717T210000
DTSTAMP:20260425T165442
CREATED:20260424T131921Z
LAST-MODIFIED:20260424T131921Z
UID:10031663-1784311200-1784322000@visithendersonvillenc.org
SUMMARY:Sunset and Silo
DESCRIPTION:Ease into the weekend with Sunset and Silo. Join on Friday evenings on the patio for live music\, mountain air\, and golden hour views. Sip\, savor\, and settle in as the sun dips behind the hills\, there’s no better way to start your weekend.
URL:https://visithendersonvillenc.org/event/sunset-and-silo/2026-07-17
LOCATION:The Silo Cookhouse at The Horse Shoe Farm\, 155 Horse Shoe Farm Dr.\, Hendersonville\, NC\, 28791\, United States
ATTACH;FMTTYPE=image/jpeg:https://visithendersonvillenc.org/wp-content/uploads/The-Horse-Shoe-Farm-Sunsets2023-07-25-at-3.07.09-PM-22-scaled.jpg
ORGANIZER;CN="The Horse Shoe Farm":MAILTO:info@thehorseshoefarm.com
END:VEVENT
BEGIN:VEVENT
DTSTART;TZID=America/New_York:20260515T170000
DTEND;TZID=America/New_York:20260515T200000
DTSTAMP:20260425T165442
CREATED:20260424T131921Z
LAST-MODIFIED:20260424T131921Z
UID:10031652-1778864400-1778875200@visithendersonvillenc.org
SUMMARY:Sunset and Silo
DESCRIPTION:Ease into the weekend with Sunset and Silo. Join on Friday evenings on the patio for live music\, mountain air\, and golden hour views. Sip\, savor\, and settle in as the sun dips behind the hills\, there’s no better way to start your weekend.
URL:https://visithendersonvillenc.org/event/sunset-and-silo/2026-05-15
LOCATION:The Silo Cookhouse at The Horse Shoe Farm\, 155 Horse Shoe Farm Dr.\, Hendersonville\, NC\, 28791\, United States
ATTACH;FMTTYPE=image/jpeg:https://visithendersonvillenc.org/wp-content/uploads/The-Horse-Shoe-Farm-Sunsets2023-07-25-at-3.07.09-PM-22-scaled.jpg
ORGANIZER;CN="The Horse Shoe Farm":MAILTO:info@thehorseshoefarm.com
END:VEVENT
BEGIN:VEVENT
DTSTART;TZID=America/New_York:20260724T180000
DTEND;TZID=America/New_York:20260724T210000
DTSTAMP:20260425T165442
CREATED:20260424T131921Z
LAST-MODIFIED:20260424T131921Z
UID:10031664-1784916000-1784926800@visithendersonvillenc.org
SUMMARY:Sunset and Silo
DESCRIPTION:Ease into the weekend with Sunset and Silo. Join on Friday evenings on the patio for live music\, mountain air\, and golden hour views. Sip\, savor\, and settle in as the sun dips behind the hills\, there’s no better way to start your weekend.
URL:https://visithendersonvillenc.org/event/sunset-and-silo/2026-07-24
LOCATION:The Silo Cookhouse at The Horse Shoe Farm\, 155 Horse Shoe Farm Dr.\, Hendersonville\, NC\, 28791\, United States
ATTACH;FMTTYPE=image/jpeg:https://visithendersonvillenc.org/wp-content/uploads/The-Horse-Shoe-Farm-Sunsets2023-07-25-at-3.07.09-PM-22-scaled.jpg
ORGANIZER;CN="The Horse Shoe Farm":MAILTO:info@thehorseshoefarm.com
END:VEVENT
BEGIN:VEVENT
DTSTART;TZID=America/New_York:20260522T170000
DTEND;TZID=America/New_York:20260522T200000
DTSTAMP:20260425T165442
CREATED:20260424T131921Z
LAST-MODIFIED:20260424T131921Z
UID:10031653-1779469200-1779480000@visithendersonvillenc.org
SUMMARY:Sunset and Silo
DESCRIPTION:Ease into the weekend with Sunset and Silo. Join on Friday evenings on the patio for live music\, mountain air\, and golden hour views. Sip\, savor\, and settle in as the sun dips behind the hills\, there’s no better way to start your weekend.
URL:https://visithendersonvillenc.org/event/sunset-and-silo/2026-05-22
LOCATION:The Silo Cookhouse at The Horse Shoe Farm\, 155 Horse Shoe Farm Dr.\, Hendersonville\, NC\, 28791\, United States
ATTACH;FMTTYPE=image/jpeg:https://visithendersonvillenc.org/wp-content/uploads/The-Horse-Shoe-Farm-Sunsets2023-07-25-at-3.07.09-PM-22-scaled.jpg
ORGANIZER;CN="The Horse Shoe Farm":MAILTO:info@thehorseshoefarm.com
END:VEVENT
BEGIN:VEVENT
DTSTART;TZID=America/New_York:20260731T180000
DTEND;TZID=America/New_York:20260731T210000
DTSTAMP:20260425T165442
CREATED:20260424T131921Z
LAST-MODIFIED:20260424T131921Z
UID:10031665-1785520800-1785531600@visithendersonvillenc.org
SUMMARY:Sunset and Silo
DESCRIPTION:Ease into the weekend with Sunset and Silo. Join on Friday evenings on the patio for live music\, mountain air\, and golden hour views. Sip\, savor\, and settle in as the sun dips behind the hills\, there’s no better way to start your weekend.
URL:https://visithendersonvillenc.org/event/sunset-and-silo/2026-07-31
LOCATION:The Silo Cookhouse at The Horse Shoe Farm\, 155 Horse Shoe Farm Dr.\, Hendersonville\, NC\, 28791\, United States
ATTACH;FMTTYPE=image/jpeg:https://visithendersonvillenc.org/wp-content/uploads/The-Horse-Shoe-Farm-Sunsets2023-07-25-at-3.07.09-PM-22-scaled.jpg
ORGANIZER;CN="The Horse Shoe Farm":MAILTO:info@thehorseshoefarm.com
END:VEVENT
BEGIN:VEVENT
DTSTART;TZID=America/New_York:20260529T170000
DTEND;TZID=America/New_York:20260529T200000
DTSTAMP:20260425T165442
CREATED:20260424T131921Z
LAST-MODIFIED:20260424T131921Z
UID:10031655-1780074000-1780084800@visithendersonvillenc.org
SUMMARY:Sunset and Silo
DESCRIPTION:Ease into the weekend with Sunset and Silo. Join on Friday evenings on the patio for live music\, mountain air\, and golden hour views. Sip\, savor\, and settle in as the sun dips behind the hills\, there’s no better way to start your weekend.
URL:https://visithendersonvillenc.org/event/sunset-and-silo/2026-05-29
LOCATION:The Silo Cookhouse at The Horse Shoe Farm\, 155 Horse Shoe Farm Dr.\, Hendersonville\, NC\, 28791\, United States
ATTACH;FMTTYPE=image/jpeg:https://visithendersonvillenc.org/wp-content/uploads/The-Horse-Shoe-Farm-Sunsets2023-07-25-at-3.07.09-PM-22-scaled.jpg
ORGANIZER;CN="The Horse Shoe Farm":MAILTO:info@thehorseshoefarm.com
END:VEVENT
BEGIN:VEVENT
DTSTART;TZID=America/New_York:20260814T180000
DTEND;TZID=America/New_York:20260814T210000
DTSTAMP:20260425T165442
CREATED:20260424T131921Z
LAST-MODIFIED:20260424T131921Z
UID:10031666-1786730400-1786741200@visithendersonvillenc.org
SUMMARY:Sunset and Silo
DESCRIPTION:Ease into the weekend with Sunset and Silo. Join on Friday evenings on the patio for live music\, mountain air\, and golden hour views. Sip\, savor\, and settle in as the sun dips behind the hills\, there’s no better way to start your weekend.
URL:https://visithendersonvillenc.org/event/sunset-and-silo/2026-08-14
LOCATION:The Silo Cookhouse at The Horse Shoe Farm\, 155 Horse Shoe Farm Dr.\, Hendersonville\, NC\, 28791\, United States
ATTACH;FMTTYPE=image/jpeg:https://visithendersonvillenc.org/wp-content/uploads/The-Horse-Shoe-Farm-Sunsets2023-07-25-at-3.07.09-PM-22-scaled.jpg
ORGANIZER;CN="The Horse Shoe Farm":MAILTO:info@thehorseshoefarm.com
END:VEVENT
BEGIN:VEVENT
DTSTART;TZID=America/New_York:20260605T180000
DTEND;TZID=America/New_York:20260605T210000
DTSTAMP:20260425T165442
CREATED:20260424T131921Z
LAST-MODIFIED:20260424T131921Z
UID:10031656-1780682400-1780693200@visithendersonvillenc.org
SUMMARY:Sunset and Silo
DESCRIPTION:Ease into the weekend with Sunset and Silo. Join on Friday evenings on the patio for live music\, mountain air\, and golden hour views. Sip\, savor\, and settle in as the sun dips behind the hills\, there’s no better way to start your weekend.
URL:https://visithendersonvillenc.org/event/sunset-and-silo/2026-06-05
LOCATION:The Silo Cookhouse at The Horse Shoe Farm\, 155 Horse Shoe Farm Dr.\, Hendersonville\, NC\, 28791\, United States
ATTACH;FMTTYPE=image/jpeg:https://visithendersonvillenc.org/wp-content/uploads/The-Horse-Shoe-Farm-Sunsets2023-07-25-at-3.07.09-PM-22-scaled.jpg
ORGANIZER;CN="The Horse Shoe Farm":MAILTO:info@thehorseshoefarm.com
END:VEVENT
BEGIN:VEVENT
DTSTART;TZID=America/New_York:20260821T180000
DTEND;TZID=America/New_York:20260821T210000
DTSTAMP:20260425T165442
CREATED:20260424T131921Z
LAST-MODIFIED:20260424T131921Z
UID:10031667-1787335200-1787346000@visithendersonvillenc.org
SUMMARY:Sunset and Silo
DESCRIPTION:Ease into the weekend with Sunset and Silo. Join on Friday evenings on the patio for live music\, mountain air\, and golden hour views. Sip\, savor\, and settle in as the sun dips behind the hills\, there’s no better way to start your weekend.
URL:https://visithendersonvillenc.org/event/sunset-and-silo/2026-08-21
LOCATION:The Silo Cookhouse at The Horse Shoe Farm\, 155 Horse Shoe Farm Dr.\, Hendersonville\, NC\, 28791\, United States
ATTACH;FMTTYPE=image/jpeg:https://visithendersonvillenc.org/wp-content/uploads/The-Horse-Shoe-Farm-Sunsets2023-07-25-at-3.07.09-PM-22-scaled.jpg
ORGANIZER;CN="The Horse Shoe Farm":MAILTO:info@thehorseshoefarm.com
END:VEVENT
BEGIN:VEVENT
DTSTART;TZID=America/New_York:20260612T180000
DTEND;TZID=America/New_York:20260612T210000
DTSTAMP:20260425T165442
CREATED:20260424T131921Z
LAST-MODIFIED:20260424T131921Z
UID:10031657-1781287200-1781298000@visithendersonvillenc.org
SUMMARY:Sunset and Silo
DESCRIPTION:Ease into the weekend with Sunset and Silo. Join on Friday evenings on the patio for live music\, mountain air\, and golden hour views. Sip\, savor\, and settle in as the sun dips behind the hills\, there’s no better way to start your weekend.
URL:https://visithendersonvillenc.org/event/sunset-and-silo/2026-06-12
LOCATION:The Silo Cookhouse at The Horse Shoe Farm\, 155 Horse Shoe Farm Dr.\, Hendersonville\, NC\, 28791\, United States
ATTACH;FMTTYPE=image/jpeg:https://visithendersonvillenc.org/wp-content/uploads/The-Horse-Shoe-Farm-Sunsets2023-07-25-at-3.07.09-PM-22-scaled.jpg
ORGANIZER;CN="The Horse Shoe Farm":MAILTO:info@thehorseshoefarm.com
END:VEVENT
BEGIN:VEVENT
DTSTART;TZID=America/New_York:20260828T180000
DTEND;TZID=America/New_York:20260828T210000
DTSTAMP:20260425T165442
CREATED:20260424T131921Z
LAST-MODIFIED:20260424T131921Z
UID:10031668-1787940000-1787950800@visithendersonvillenc.org
SUMMARY:Sunset and Silo
DESCRIPTION:Ease into the weekend with Sunset and Silo. Join on Friday evenings on the patio for live music\, mountain air\, and golden hour views. Sip\, savor\, and settle in as the sun dips behind the hills\, there’s no better way to start your weekend.
URL:https://visithendersonvillenc.org/event/sunset-and-silo/2026-08-28
LOCATION:The Silo Cookhouse at The Horse Shoe Farm\, 155 Horse Shoe Farm Dr.\, Hendersonville\, NC\, 28791\, United States
ATTACH;FMTTYPE=image/jpeg:https://visithendersonvillenc.org/wp-content/uploads/The-Horse-Shoe-Farm-Sunsets2023-07-25-at-3.07.09-PM-22-scaled.jpg
ORGANIZER;CN="The Horse Shoe Farm":MAILTO:info@thehorseshoefarm.com
END:VEVENT
BEGIN:VEVENT
DTSTART;TZID=America/New_York:20260619T180000
DTEND;TZID=America/New_York:20260619T210000
DTSTAMP:20260425T165442
CREATED:20260424T131921Z
LAST-MODIFIED:20260424T131921Z
UID:10031658-1781892000-1781902800@visithendersonvillenc.org
SUMMARY:Sunset and Silo
DESCRIPTION:Ease into the weekend with Sunset and Silo. Join on Friday evenings on the patio for live music\, mountain air\, and golden hour views. Sip\, savor\, and settle in as the sun dips behind the hills\, there’s no better way to start your weekend.
URL:https://visithendersonvillenc.org/event/sunset-and-silo/2026-06-19
LOCATION:The Silo Cookhouse at The Horse Shoe Farm\, 155 Horse Shoe Farm Dr.\, Hendersonville\, NC\, 28791\, United States
ATTACH;FMTTYPE=image/jpeg:https://visithendersonvillenc.org/wp-content/uploads/The-Horse-Shoe-Farm-Sunsets2023-07-25-at-3.07.09-PM-22-scaled.jpg
ORGANIZER;CN="The Horse Shoe Farm":MAILTO:info@thehorseshoefarm.com
END:VEVENT
BEGIN:VEVENT
DTSTART;TZID=America/New_York:20260904T180000
DTEND;TZID=America/New_York:20260904T210000
DTSTAMP:20260425T165442
CREATED:20260424T131921Z
LAST-MODIFIED:20260424T131921Z
UID:10031669-1788544800-1788555600@visithendersonvillenc.org
SUMMARY:Sunset and Silo
DESCRIPTION:Ease into the weekend with Sunset and Silo. Join on Friday evenings on the patio for live music\, mountain air\, and golden hour views. Sip\, savor\, and settle in as the sun dips behind the hills\, there’s no better way to start your weekend.
URL:https://visithendersonvillenc.org/event/sunset-and-silo/2026-09-04
LOCATION:The Silo Cookhouse at The Horse Shoe Farm\, 155 Horse Shoe Farm Dr.\, Hendersonville\, NC\, 28791\, United States
ATTACH;FMTTYPE=image/jpeg:https://visithendersonvillenc.org/wp-content/uploads/The-Horse-Shoe-Farm-Sunsets2023-07-25-at-3.07.09-PM-22-scaled.jpg
ORGANIZER;CN="The Horse Shoe Farm":MAILTO:info@thehorseshoefarm.com
END:VEVENT
BEGIN:VEVENT
DTSTART;TZID=America/New_York:20260626T180000
DTEND;TZID=America/New_York:20260626T210000
DTSTAMP:20260425T165442
CREATED:20260424T131921Z
LAST-MODIFIED:20260424T131921Z
UID:10031659-1782496800-1782507600@visithendersonvillenc.org
SUMMARY:Sunset and Silo
DESCRIPTION:Ease into the weekend with Sunset and Silo. Join on Friday evenings on the patio for live music\, mountain air\, and golden hour views. Sip\, savor\, and settle in as the sun dips behind the hills\, there’s no better way to start your weekend.
URL:https://visithendersonvillenc.org/event/sunset-and-silo/2026-06-26
LOCATION:The Silo Cookhouse at The Horse Shoe Farm\, 155 Horse Shoe Farm Dr.\, Hendersonville\, NC\, 28791\, United States
ATTACH;FMTTYPE=image/jpeg:https://visithendersonvillenc.org/wp-content/uploads/The-Horse-Shoe-Farm-Sunsets2023-07-25-at-3.07.09-PM-22-scaled.jpg
ORGANIZER;CN="The Horse Shoe Farm":MAILTO:info@thehorseshoefarm.com
END:VEVENT
BEGIN:VEVENT
DTSTART;TZID=America/New_York:20260905T180000
DTEND;TZID=America/New_York:20260905T210000
DTSTAMP:20260425T165442
CREATED:20260424T131921Z
LAST-MODIFIED:20260424T131921Z
UID:10031670-1788631200-1788642000@visithendersonvillenc.org
SUMMARY:Sunset and Silo
DESCRIPTION:Ease into the weekend with Sunset and Silo. Join on Friday evenings on the patio for live music\, mountain air\, and golden hour views. Sip\, savor\, and settle in as the sun dips behind the hills\, there’s no better way to start your weekend.
URL:https://visithendersonvillenc.org/event/sunset-and-silo/2026-09-05
LOCATION:The Silo Cookhouse at The Horse Shoe Farm\, 155 Horse Shoe Farm Dr.\, Hendersonville\, NC\, 28791\, United States
ATTACH;FMTTYPE=image/jpeg:https://visithendersonvillenc.org/wp-content/uploads/The-Horse-Shoe-Farm-Sunsets2023-07-25-at-3.07.09-PM-22-scaled.jpg
ORGANIZER;CN="The Horse Shoe Farm":MAILTO:info@thehorseshoefarm.com
END:VEVENT
END:VCALENDAR